BEGIN:VCALENDAR
VERSION:2.0
PRODID:SchoolNow
CALSCALE:GREGORIAN
BEGIN:VEVENT
UID:469f3b86-5f04-11ee-a07a-02aca32165c9
DTSTAMP:20230929T201046Z
SUMMARY:Percussion Ensemble Practice
LOCATION:B101
URL;VALUE=URI:https://www.arbor145.org/apms/calendar/4811763/percussion-ens
 emble-practice-clone-clone-clone-clone-clone-clone-clone-clone-clone
DTSTART:20231220T203000Z
DTEND:20231220T211500Z
END:VEVENT
END:VCALENDAR
