BEGIN:VCALENDAR
VERSION:2.0
PRODID:SchoolNow
CALSCALE:GREGORIAN
BEGIN:VEVENT
UID:4ddc52f8-5f04-11ee-98c2-0e458b5e552b
DTSTAMP:20230929T201058Z
SUMMARY:Percussion Ensemble Practice
LOCATION:B101
URL;VALUE=URI:https://www.arbor145.org/apms/calendar/4811764/percussion-ens
 emble-practice-clone-clone-clone-clone-clone-clone-clone-clone-clone-clone
DTSTART:20240110T203000Z
DTEND:20240110T211500Z
END:VEVENT
END:VCALENDAR
