BEGIN:VCALENDAR
VERSION:2.0
PRODID:SchoolNow
CALSCALE:GREGORIAN
BEGIN:VEVENT
UID:51c4850c-5f04-11ee-8291-0a58a9feac02
DTSTAMP:20230929T201105Z
SUMMARY:Percussion Ensemble Practice
LOCATION:B101
URL;VALUE=URI:https://www.arbor145.org/apms/calendar/4811765/percussion-ens
 emble-practice-clone-clone-clone-clone-clone-clone-clone-clone-clone-clone
 -clone
DTSTART:20240117T203000Z
DTEND:20240117T211500Z
END:VEVENT
END:VCALENDAR
