BEGIN:VCALENDAR
VERSION:2.0
PRODID:SchoolNow
CALSCALE:GREGORIAN
BEGIN:VEVENT
UID:57af9830-5f04-11ee-9da9-0ab81c7bd7ab
DTSTAMP:20230929T201115Z
SUMMARY:Percussion Ensemble Practice
LOCATION:B101
URL;VALUE=URI:https://www.arbor145.org/apms/calendar/4811766/percussion-ens
 emble-practice-clone-clone-clone-clone-clone-clone-clone-clone-clone-clone
 -clone-clone
DTSTART:20240124T203000Z
DTEND:20240124T211500Z
END:VEVENT
END:VCALENDAR
