BEGIN:VCALENDAR
VERSION:2.0
PRODID:SchoolNow
CALSCALE:GREGORIAN
BEGIN:VEVENT
UID:5d85aa42-5f04-11ee-88f8-0a58a9feac02
DTSTAMP:20230929T201124Z
SUMMARY:Percussion Ensemble Practice
LOCATION:B101
URL;VALUE=URI:https://www.arbor145.org/apms/calendar/4811767/percussion-ens
 emble-practice-clone-clone-clone-clone-clone-clone-clone-clone-clone-clone
 -clone-clone-clone
DTSTART:20240131T203000Z
DTEND:20240131T211500Z
END:VEVENT
END:VCALENDAR
