BEGIN:VCALENDAR
VERSION:2.0
PRODID:SchoolNow
CALSCALE:GREGORIAN
BEGIN:VEVENT
UID:63e1fd0a-5f04-11ee-ab04-0a58a9feac02
DTSTAMP:20230929T201135Z
SUMMARY:Percussion Ensemble Practice
LOCATION:B101
URL;VALUE=URI:https://www.arbor145.org/apms/calendar/4811768/percussion-ens
 emble-practice-clone-clone-clone-clone-clone-clone-clone-clone-clone-clone
 -clone-clone-clone-clone
DTSTART:20240207T203000Z
DTEND:20240207T211500Z
END:VEVENT
END:VCALENDAR
