BEGIN:VCALENDAR
VERSION:2.0
PRODID:SchoolNow
CALSCALE:GREGORIAN
BEGIN:VEVENT
UID:68941176-5f04-11ee-93cc-0a58a9feac02
DTSTAMP:20230929T201143Z
SUMMARY:Percussion Ensemble Practice
LOCATION:B101
URL;VALUE=URI:https://www.arbor145.org/apms/calendar/4811769/percussion-ens
 emble-practice-clone-clone-clone-clone-clone-clone-clone-clone-clone-clone
 -clone-clone-clone-clone-clone
DTSTART:20240214T203000Z
DTEND:20240214T211500Z
END:VEVENT
END:VCALENDAR
