BEGIN:VCALENDAR
VERSION:2.0
PRODID:SchoolNow
CALSCALE:GREGORIAN
BEGIN:VEVENT
UID:72cdf0bc-5f04-11ee-8da8-0a58a9feac02
DTSTAMP:20230929T201200Z
SUMMARY:Percussion Ensemble Practice
LOCATION:B101
URL;VALUE=URI:https://www.arbor145.org/apms/calendar/4811770/percussion-ens
 emble-practice-clone-clone-clone-clone-clone-clone-clone-clone-clone-clone
 -clone-clone-clone-clone-clone-clone
DTSTART:20240221T203000Z
DTEND:20240221T211500Z
END:VEVENT
END:VCALENDAR
