BEGIN:VCALENDAR
VERSION:2.0
PRODID:SchoolNow
CALSCALE:GREGORIAN
BEGIN:VEVENT
UID:7846ab24-5f04-11ee-a8aa-0a58a9feac02
DTSTAMP:20230929T201209Z
SUMMARY:Percussion Ensemble Practice
LOCATION:B101
URL;VALUE=URI:https://www.arbor145.org/apms/calendar/4811771/percussion-ens
 emble-practice-clone-clone-clone-clone-clone-clone-clone-clone-clone-clone
 -clone-clone-clone-clone-clone-clone-clone
DTSTART:20240228T203000Z
DTEND:20240228T211500Z
END:VEVENT
END:VCALENDAR
