BEGIN:VCALENDAR
VERSION:2.0
PRODID:SchoolNow
CALSCALE:GREGORIAN
BEGIN:VEVENT
UID:7e0b951a-5f04-11ee-b262-0a58a9feac02
DTSTAMP:20230929T201219Z
SUMMARY:Percussion Ensemble Practice
LOCATION:B101
URL;VALUE=URI:https://www.arbor145.org/apms/calendar/4811772/percussion-ens
 emble-practice-clone-clone-clone-clone-clone-clone-clone-clone-clone-clone
 -clone-clone-clone-clone-clone-clone-clone-clone
DTSTART:20240306T203000Z
DTEND:20240306T211500Z
END:VEVENT
END:VCALENDAR
