BEGIN:VCALENDAR
VERSION:2.0
PRODID:SchoolNow
CALSCALE:GREGORIAN
BEGIN:VEVENT
UID:82ac0eba-5f04-11ee-a107-023bc3528a89
DTSTAMP:20230929T201227Z
SUMMARY:Percussion Ensemble Practice
LOCATION:B101
URL;VALUE=URI:https://www.arbor145.org/apms/calendar/4811773/percussion-ens
 emble-practice-clone-clone-clone-clone-clone-clone-clone-clone-clone-clone
 -clone-clone-clone-clone-clone-clone-clone-clone-clone
DTSTART:20240313T193000Z
DTEND:20240313T201500Z
END:VEVENT
END:VCALENDAR
