BEGIN:VCALENDAR
VERSION:2.0
PRODID:SchoolNow
CALSCALE:GREGORIAN
BEGIN:VEVENT
UID:89fb1c7e-5f04-11ee-b6d7-0a58a9feac02
DTSTAMP:20230929T201239Z
SUMMARY:Percussion Ensemble Practice
LOCATION:B101
URL;VALUE=URI:https://www.arbor145.org/apms/calendar/4811774/percussion-ens
 emble-practice-clone-clone-clone-clone-clone-clone-clone-clone-clone-clone
 -clone-clone-clone-clone-clone-clone-clone-clone-clone-clone
DTSTART:20240320T193000Z
DTEND:20240320T201500Z
END:VEVENT
END:VCALENDAR
