BEGIN:VCALENDAR
VERSION:2.0
PRODID:SchoolNow
CALSCALE:GREGORIAN
BEGIN:VEVENT
UID:9718db3a-5f04-11ee-95dc-0a18822c2ea3
DTSTAMP:20230929T201301Z
SUMMARY:Percussion Ensemble Practice
LOCATION:B101
URL;VALUE=URI:https://www.arbor145.org/apms/calendar/4811775/percussion-ens
 emble-practice-clone-clone-clone-clone-clone-clone-clone-clone-clone-clone
 -clone-clone-clone-clone-clone-clone-clone-clone-clone-clone-clone
DTSTART:20240403T193000Z
DTEND:20240403T201500Z
END:VEVENT
END:VCALENDAR
