BEGIN:VCALENDAR
VERSION:2.0
PRODID:SchoolNow
CALSCALE:GREGORIAN
BEGIN:VEVENT
UID:a1f6fdd4-5f04-11ee-b8a0-0a58a9feac02
DTSTAMP:20230929T201319Z
SUMMARY:Percussion Ensemble Practice
LOCATION:B101
URL;VALUE=URI:https://www.arbor145.org/apms/calendar/4811777/percussion-ens
 emble-practice-clone-clone-clone-clone-clone-clone-clone-clone-clone-clone
 -clone-clone-clone-clone-clone-clone-clone-clone-clone-clone-clone-clone-c
 lone
DTSTART:20240417T193000Z
DTEND:20240417T201500Z
END:VEVENT
END:VCALENDAR
