BEGIN:VCALENDAR
VERSION:2.0
PRODID:SchoolNow
CALSCALE:GREGORIAN
BEGIN:VEVENT
UID:a74af754-5f04-11ee-9d27-023bc3528a89
DTSTAMP:20230929T201328Z
SUMMARY:Percussion Ensemble Practice
LOCATION:B101
URL;VALUE=URI:https://www.arbor145.org/apms/calendar/4811778/percussion-ens
 emble-practice-clone-clone-clone-clone-clone-clone-clone-clone-clone-clone
 -clone-clone-clone-clone-clone-clone-clone-clone-clone-clone-clone-clone-c
 lone-clone
DTSTART:20240424T193000Z
DTEND:20240424T201500Z
END:VEVENT
END:VCALENDAR
