BEGIN:VCALENDAR
VERSION:2.0
PRODID:SchoolNow
CALSCALE:GREGORIAN
BEGIN:VEVENT
UID:ad189eb6-5f04-11ee-a10e-0e458b5e552b
DTSTAMP:20230929T201338Z
SUMMARY:Percussion Ensemble Practice
LOCATION:B101
URL;VALUE=URI:https://www.arbor145.org/apms/calendar/4811779/percussion-ens
 emble-practice-clone-clone-clone-clone-clone-clone-clone-clone-clone-clone
 -clone-clone-clone-clone-clone-clone-clone-clone-clone-clone-clone-clone-c
 lone-clone-clone
DTSTART:20240501T193000Z
DTEND:20240501T201500Z
END:VEVENT
END:VCALENDAR
