BEGIN:VCALENDAR
VERSION:2.0
PRODID:SchoolNow
CALSCALE:GREGORIAN
BEGIN:VEVENT
UID:da286f08-5f04-11ee-9253-0a58a9feac02
DTSTAMP:20230929T201453Z
SUMMARY:Percussion Ensemble Practice
LOCATION:B101
URL;VALUE=URI:https://www.arbor145.org/apms/calendar/4811783/percussion-ens
 emble-practice-clone-clone-clone-clone-clone-clone-clone-clone-clone-clone
 -clone-clone-clone-clone-clone-clone-clone-clone-clone-clone-clone-clone-c
 lone-clone-clone-clone-clone-clone-clone
DTSTART:20240529T193000Z
DTEND:20240529T201500Z
END:VEVENT
END:VCALENDAR
