BEGIN:VCALENDAR
VERSION:2.0
PRODID:SchoolNow
CALSCALE:GREGORIAN
BEGIN:VEVENT
UID:231f2300-5f05-11ee-8a72-0a18822c2ea3
DTSTAMP:20230929T201656Z
SUMMARY:7th & 8th Grade Band Practice
LOCATION:B101
URL;VALUE=URI:https://www.arbor145.org/apms/calendar/4811785/7th-8th-grade-
 band-practice
DTSTART:20231006T193000Z
DTEND:20231006T201500Z
END:VEVENT
END:VCALENDAR
