BEGIN:VCALENDAR
VERSION:2.0
PRODID:SchoolNow
CALSCALE:GREGORIAN
BEGIN:VEVENT
UID:0c2e6ae0-5f08-11ee-9190-0a4087734a21
DTSTAMP:20230929T203746Z
SUMMARY:7th & 8th Grade Band Practice
LOCATION:B101
URL;VALUE=URI:https://www.arbor145.org/apms/calendar/4811786/7th-8th-grade-
 band-practice-clone
DTSTART:20231013T193000Z
DTEND:20231013T201500Z
END:VEVENT
END:VCALENDAR
