BEGIN:VCALENDAR
VERSION:2.0
PRODID:SchoolNow
CALSCALE:GREGORIAN
BEGIN:VEVENT
UID:5aa40e96-5f08-11ee-be66-0a18822c2ea3
DTSTAMP:20230929T203958Z
SUMMARY:7th & 8th Grade Band Practice
LOCATION:B101
URL;VALUE=URI:https://www.arbor145.org/apms/calendar/4811787/7th-8th-grade-
 band-practice-clone-clone
DTSTART:20231020T193000Z
DTEND:20231020T201500Z
END:VEVENT
END:VCALENDAR
