BEGIN:VCALENDAR
VERSION:2.0
PRODID:SchoolNow
CALSCALE:GREGORIAN
BEGIN:VEVENT
UID:b1b78b54-5f08-11ee-993f-0a58a9feac02
DTSTAMP:20230929T204224Z
SUMMARY:7th & 8th Grade Band Practice
LOCATION:B101
URL;VALUE=URI:https://www.arbor145.org/apms/calendar/4811789/7th-8th-grade-
 band-practice-clone-clone-clone-clone
DTSTART:20231103T193000Z
DTEND:20231103T201500Z
END:VEVENT
END:VCALENDAR
