BEGIN:VCALENDAR
VERSION:2.0
PRODID:SchoolNow
CALSCALE:GREGORIAN
BEGIN:VEVENT
UID:b5c6ba80-5f08-11ee-af9f-0a4087734a21
DTSTAMP:20230929T204230Z
SUMMARY:7th & 8th Grade Band Practice
LOCATION:B101
URL;VALUE=URI:https://www.arbor145.org/apms/calendar/4811790/7th-8th-grade-
 band-practice-clone-clone-clone-clone-clone
DTSTART:20231110T203000Z
DTEND:20231110T211500Z
END:VEVENT
END:VCALENDAR
