BEGIN:VCALENDAR
VERSION:2.0
PRODID:SchoolNow
CALSCALE:GREGORIAN
BEGIN:VEVENT
UID:b9f84f38-5f08-11ee-94a7-02aca32165c9
DTSTAMP:20230929T204237Z
SUMMARY:7th & 8th Grade Band Practice
LOCATION:B101
URL;VALUE=URI:https://www.arbor145.org/apms/calendar/4811791/7th-8th-grade-
 band-practice-clone-clone-clone-clone-clone-clone
DTSTART:20231117T203000Z
DTEND:20231117T211500Z
END:VEVENT
END:VCALENDAR
