BEGIN:VCALENDAR
VERSION:2.0
PRODID:SchoolNow
CALSCALE:GREGORIAN
BEGIN:VEVENT
UID:caaebfba-5f08-11ee-9c1f-0a58a9feac02
DTSTAMP:20230929T204305Z
SUMMARY:7th & 8th Grade Band Practice
LOCATION:B101
URL;VALUE=URI:https://www.arbor145.org/apms/calendar/4811794/7th-8th-grade-
 band-practice-clone-clone-clone-clone-clone-clone-clone-clone-clone
DTSTART:20231215T203000Z
DTEND:20231215T211500Z
END:VEVENT
END:VCALENDAR
