BEGIN:VCALENDAR
VERSION:2.0
PRODID:SchoolNow
CALSCALE:GREGORIAN
BEGIN:VEVENT
UID:d564ca9e-5f08-11ee-9cf9-0a877b798239
DTSTAMP:20230929T204323Z
SUMMARY:7th & 8th Grade Band Practice
LOCATION:B101
URL;VALUE=URI:https://www.arbor145.org/apms/calendar/4811795/7th-8th-grade-
 band-practice-clone-clone-clone-clone-clone-clone-clone-clone-clone-clone
DTSTART:20240112T203000Z
DTEND:20240112T211500Z
END:VEVENT
END:VCALENDAR
