BEGIN:VCALENDAR
VERSION:2.0
PRODID:SchoolNow
CALSCALE:GREGORIAN
BEGIN:VEVENT
UID:dde0d2c6-5f08-11ee-b425-0a8fc331ecd9
DTSTAMP:20230929T204338Z
SUMMARY:7th & 8th Grade Band Practice
LOCATION:B101
URL;VALUE=URI:https://www.arbor145.org/apms/calendar/4811797/7th-8th-grade-
 band-practice-clone-clone-clone-clone-clone-clone-clone-clone-clone-clone-
 clone-clone
DTSTART:20240126T203000Z
DTEND:20240126T211500Z
END:VEVENT
END:VCALENDAR
