BEGIN:VCALENDAR
VERSION:2.0
PRODID:SchoolNow
CALSCALE:GREGORIAN
BEGIN:VEVENT
UID:1d03e9ca-5f09-11ee-a02b-0a4087734a21
DTSTAMP:20230929T204524Z
SUMMARY:7th & 8th Grade Band Practice
LOCATION:B101
URL;VALUE=URI:https://www.arbor145.org/apms/calendar/4811801/7th-8th-grade-
 band-practice-clone-clone-clone-clone-clone-clone-clone-clone-clone-clone-
 clone-clone-clone-clone-clone-clone
DTSTART:20240223T203000Z
DTEND:20240223T211500Z
END:VEVENT
END:VCALENDAR
