BEGIN:VCALENDAR
VERSION:2.0
PRODID:SchoolNow
CALSCALE:GREGORIAN
BEGIN:VEVENT
UID:25694dd0-5f09-11ee-b0f5-0a58a9feac02
DTSTAMP:20230929T204538Z
SUMMARY:7th & 8th Grade Band Practice
LOCATION:B101
URL;VALUE=URI:https://www.arbor145.org/apms/calendar/4811803/7th-8th-grade-
 band-practice-clone-clone-clone-clone-clone-clone-clone-clone-clone-clone-
 clone-clone-clone-clone-clone-clone-clone-clone
DTSTART:20240308T203000Z
DTEND:20240308T211500Z
END:VEVENT
END:VCALENDAR
