BEGIN:VCALENDAR
VERSION:2.0
PRODID:SchoolNow
CALSCALE:GREGORIAN
BEGIN:VEVENT
UID:2e13baec-5f09-11ee-8310-0e458b5e552b
DTSTAMP:20230929T204552Z
SUMMARY:7th & 8th Grade Band Practice
LOCATION:B101
URL;VALUE=URI:https://www.arbor145.org/apms/calendar/4811805/7th-8th-grade-
 band-practice-clone-clone-clone-clone-clone-clone-clone-clone-clone-clone-
 clone-clone-clone-clone-clone-clone-clone-clone-clone-clone
DTSTART:20240322T193000Z
DTEND:20240322T201500Z
END:VEVENT
END:VCALENDAR
