BEGIN:VCALENDAR
VERSION:2.0
PRODID:SchoolNow
CALSCALE:GREGORIAN
BEGIN:VEVENT
UID:794b5db4-6849-11ee-ad95-0a58a9feac02
DTSTAMP:20231011T152025Z
SUMMARY:Cheerleading Tryouts
LOCATION:APMS Cafetorium
URL;VALUE=URI:https://www.arbor145.org/apms/calendar/4854816/cheerleading-t
 ryouts
DTSTART:20231017T193000Z
DTEND:20231017T210000Z
END:VEVENT
END:VCALENDAR
