BEGIN:VCALENDAR
VERSION:2.0
PRODID:SchoolNow
CALSCALE:GREGORIAN
BEGIN:VEVENT
UID:9516ea04-6849-11ee-bf6f-0a58a9feac02
DTSTAMP:20231011T152107Z
SUMMARY:Cheerleading Tryouts
LOCATION:APMS Cafetorium
URL;VALUE=URI:https://www.arbor145.org/apms/calendar/4854817/cheerleading-t
 ryouts
DTSTART:20231018T193000Z
DTEND:20231018T210000Z
END:VEVENT
END:VCALENDAR
