BEGIN:VCALENDAR
VERSION:2.0
PRODID:SchoolNow
CALSCALE:GREGORIAN
BEGIN:VEVENT
UID:b162083c-6d0e-11ee-9d5f-0a00a271d2f7
DTSTAMP:20231017T170036Z
SUMMARY:8th grade MAP Testing-Students Attending T.P.H.S. Class of 2028
LOCATION:Tinley Park High School
URL;VALUE=URI:https://www.arbor145.org/apms/calendar/4873894/8th-grade-map-
 testing-students-attending-t-p-h-s-class-of-2028
DTSTART:20231028T130000Z
DTEND:20231028T160000Z
END:VEVENT
END:VCALENDAR
