BEGIN:VCALENDAR
VERSION:2.0
PRODID:SchoolNow
CALSCALE:GREGORIAN
BEGIN:VEVENT
UID:1aae9d8a-ae52-11ee-b8d4-0a58a9feac02
DTSTAMP:20240108T181655Z
SUMMARY:Kindness Club
LOCATION:A139
URL;VALUE=URI:https://www.arbor145.org/apms/calendar/5123356/kindness-club-
 clone
DTSTART:20240122T203000Z
DTEND:20240122T214000Z
END:VEVENT
END:VCALENDAR
