BEGIN:VCALENDAR
VERSION:2.0
PRODID:SchoolNow
CALSCALE:GREGORIAN
BEGIN:VEVENT
UID:34abeef4-ae52-11ee-a536-0a02edaebf9f
DTSTAMP:20240108T181738Z
SUMMARY:Kindness Club
LOCATION:A139
URL;VALUE=URI:https://www.arbor145.org/apms/calendar/5123357/kindness-club-
 clone-clone
DTSTART:20240129T203000Z
DTEND:20240129T214000Z
END:VEVENT
END:VCALENDAR
