BEGIN:VCALENDAR
VERSION:2.0
PRODID:SchoolNow
CALSCALE:GREGORIAN
BEGIN:VEVENT
UID:548f4ec8-ae52-11ee-9bdd-0ac53249629f
DTSTAMP:20240108T181832Z
SUMMARY:Kindness Club
LOCATION:A139
URL;VALUE=URI:https://www.arbor145.org/apms/calendar/5123358/kindness-club-
 clone-clone
DTSTART:20240205T203000Z
DTEND:20240205T214000Z
END:VEVENT
END:VCALENDAR
