BEGIN:VCALENDAR
VERSION:2.0
PRODID:SchoolNow
CALSCALE:GREGORIAN
BEGIN:VEVENT
UID:609a3cc8-ae52-11ee-bfe3-0a58a9feac02
DTSTAMP:20240108T181852Z
SUMMARY:Kindness Club
LOCATION:A139
URL;VALUE=URI:https://www.arbor145.org/apms/calendar/5123359/kindness-club-
 clone-clone
DTSTART:20240226T203000Z
DTEND:20240226T214000Z
END:VEVENT
END:VCALENDAR
