BEGIN:VCALENDAR
VERSION:2.0
PRODID:SchoolNow
CALSCALE:GREGORIAN
BEGIN:VEVENT
UID:028bd7bc-ae53-11ee-9e04-0ac72bd9650b
DTSTAMP:20240108T182324Z
SUMMARY:Kindness Club
LOCATION:A139
URL;VALUE=URI:https://www.arbor145.org/apms/calendar/5123360/kindness-club-
 clone-clone
DTSTART:20240311T193000Z
DTEND:20240311T204000Z
END:VEVENT
END:VCALENDAR
