BEGIN:VCALENDAR
VERSION:2.0
PRODID:SchoolNow
CALSCALE:GREGORIAN
BEGIN:VEVENT
UID:0c4daec4-ae53-11ee-b160-0a58a9feac02
DTSTAMP:20240108T182340Z
SUMMARY:Kindness Club
LOCATION:A139
URL;VALUE=URI:https://www.arbor145.org/apms/calendar/5123361/kindness-club-
 clone-clone-clone
DTSTART:20240318T193000Z
DTEND:20240318T204000Z
END:VEVENT
END:VCALENDAR
