BEGIN:VCALENDAR
VERSION:2.0
PRODID:SchoolNow
CALSCALE:GREGORIAN
BEGIN:VEVENT
UID:16fa1b3c-ae53-11ee-a20f-022a7da71e3d
DTSTAMP:20240108T182358Z
SUMMARY:Kindness Club
LOCATION:A139
URL;VALUE=URI:https://www.arbor145.org/apms/calendar/5123362/kindness-club-
 clone-clone-clone-clone
DTSTART:20240408T193000Z
DTEND:20240408T204000Z
END:VEVENT
END:VCALENDAR
