BEGIN:VCALENDAR
VERSION:2.0
PRODID:SchoolNow
CALSCALE:GREGORIAN
BEGIN:VEVENT
UID:1e5269a2-ae53-11ee-b933-0a58a9feac02
DTSTAMP:20240108T182410Z
SUMMARY:Kindness Club
LOCATION:A139
URL;VALUE=URI:https://www.arbor145.org/apms/calendar/5123363/kindness-club-
 clone-clone-clone-clone-clone
DTSTART:20240422T193000Z
DTEND:20240422T204000Z
END:VEVENT
END:VCALENDAR
