BEGIN:VCALENDAR
VERSION:2.0
PRODID:SchoolNow
CALSCALE:GREGORIAN
BEGIN:VEVENT
UID:26c2d0e0-ae53-11ee-8961-0a58a9feac02
DTSTAMP:20240108T182425Z
SUMMARY:Kindness Club
LOCATION:A139
URL;VALUE=URI:https://www.arbor145.org/apms/calendar/5123364/kindness-club-
 clone-clone-clone-clone-clone-clone
DTSTART:20240506T193000Z
DTEND:20240506T204000Z
END:VEVENT
END:VCALENDAR
