BEGIN:VCALENDAR
VERSION:2.0
PRODID:SchoolNow
CALSCALE:GREGORIAN
BEGIN:VEVENT
UID:2f05796a-ae53-11ee-a086-022a7da71e3d
DTSTAMP:20240108T182438Z
SUMMARY:Kindness Club
LOCATION:A139
URL;VALUE=URI:https://www.arbor145.org/apms/calendar/5123365/kindness-club-
 clone-clone-clone-clone-clone-clone-clone
DTSTART:20240513T193000Z
DTEND:20240513T204000Z
END:VEVENT
END:VCALENDAR
