BEGIN:VCALENDAR
VERSION:2.0
PRODID:SchoolNow
CALSCALE:GREGORIAN
BEGIN:VEVENT
UID:90f58958-af3e-11ee-8c83-0a58a9feac02
DTSTAMP:20240109T222934Z
SUMMARY:Declamation Club
URL;VALUE=URI:https://www.arbor145.org/apms/calendar/5132181/declamation-cl
 ub
DTSTART:20240112T203000Z
DTEND:20240112T213000Z
END:VEVENT
END:VCALENDAR
