BEGIN:VCALENDAR
VERSION:2.0
PRODID:SchoolNow
CALSCALE:GREGORIAN
BEGIN:VEVENT
UID:a2d80240-af3e-11ee-96bf-0a58a9feac02
DTSTAMP:20240109T223004Z
SUMMARY:Declamation Club
URL;VALUE=URI:https://www.arbor145.org/apms/calendar/5132182/declamation-cl
 ub-clone
DTSTART:20240119T203000Z
DTEND:20240119T213000Z
END:VEVENT
END:VCALENDAR
