BEGIN:VCALENDAR
VERSION:2.0
PRODID:SchoolNow
CALSCALE:GREGORIAN
BEGIN:VEVENT
UID:b1955c88-af3e-11ee-a89f-0a02edaebf9f
DTSTAMP:20240109T223029Z
SUMMARY:Declamation Club
URL;VALUE=URI:https://www.arbor145.org/apms/calendar/5132183/declamation-cl
 ub-clone-clone
DTSTART:20240126T203000Z
DTEND:20240126T213000Z
END:VEVENT
END:VCALENDAR
