BEGIN:VCALENDAR
VERSION:2.0
PRODID:SchoolNow
CALSCALE:GREGORIAN
BEGIN:VEVENT
UID:c0d3d8fa-af3e-11ee-b9f6-0a58a9feac02
DTSTAMP:20240109T223055Z
SUMMARY:Declamation Club
URL;VALUE=URI:https://www.arbor145.org/apms/calendar/5132185/declamation-cl
 ub-clone-clone-clone-clone
DTSTART:20240209T203000Z
DTEND:20240209T213000Z
END:VEVENT
END:VCALENDAR
