BEGIN:VCALENDAR
VERSION:2.0
PRODID:SchoolNow
CALSCALE:GREGORIAN
BEGIN:VEVENT
UID:c73f18ee-af3e-11ee-af7f-0a58a9feac02
DTSTAMP:20240109T223106Z
SUMMARY:Declamation Club
URL;VALUE=URI:https://www.arbor145.org/apms/calendar/5132186/declamation-cl
 ub-clone-clone-clone-clone-clone
DTSTART:20240216T203000Z
DTEND:20240216T213000Z
END:VEVENT
END:VCALENDAR
