BEGIN:VCALENDAR
VERSION:2.0
PRODID:SchoolNow
CALSCALE:GREGORIAN
BEGIN:VEVENT
UID:cd30a5ce-af3e-11ee-8cea-0a58a9feac02
DTSTAMP:20240109T223116Z
SUMMARY:Declamation Club
URL;VALUE=URI:https://www.arbor145.org/apms/calendar/5132187/declamation-cl
 ub-clone-clone-clone-clone-clone-clone
DTSTART:20240223T203000Z
DTEND:20240223T213000Z
END:VEVENT
END:VCALENDAR
