BEGIN:VCALENDAR
VERSION:2.0
PRODID:SchoolNow
CALSCALE:GREGORIAN
BEGIN:VEVENT
UID:d4899a88-af3e-11ee-83f4-0a58a9feac02
DTSTAMP:20240109T223128Z
SUMMARY:Declamation Club
URL;VALUE=URI:https://www.arbor145.org/apms/calendar/5132188/declamation-cl
 ub-clone-clone-clone-clone-clone-clone-clone
DTSTART:20240301T203000Z
DTEND:20240301T213000Z
END:VEVENT
END:VCALENDAR
