BEGIN:VCALENDAR
VERSION:2.0
PRODID:SchoolNow
CALSCALE:GREGORIAN
BEGIN:VEVENT
UID:deaf5142-af3e-11ee-9c9c-0a58a9feac02
DTSTAMP:20240109T223145Z
SUMMARY:Declamation Club
URL;VALUE=URI:https://www.arbor145.org/apms/calendar/5132189/declamation-cl
 ub-clone-clone-clone-clone-clone-clone-clone-clone
DTSTART:20240308T203000Z
DTEND:20240308T213000Z
END:VEVENT
END:VCALENDAR
